BEGIN:VCALENDAR
VERSION:2.0
PRODID:spatie/icalendar-generator
DESCRIPTION:Events from DanversDems
X-WR-CALDESC:Events from DanversDems
REFRESH-INTERVAL;VALUE=DURATION:PT1440M
X-PUBLISHED-TTL:PT1440M
BEGIN:VTIMEZONE
TZID:Etc/GMT+0
BEGIN:STANDARD
DTSTART:20240518T180000Z
TZOFFSETFROM:+0000
TZOFFSETTO:+0000
END:STANDARD
END:VTIMEZONE
BEGIN:VTIMEZONE
TZID:UTC
BEGIN:STANDARD
DTSTART:20250728T062433Z
TZOFFSETFROM:+0000
TZOFFSETTO:+0000
END:STANDARD
END:VTIMEZONE
BEGIN:VEVENT
UID:21-17
DTSTAMP:20260424T062433Z
SUMMARY:ACLU Immigrant Family Emergency Preparedness Trainings
LOCATION:Boston
ORGANIZER;CN=Lou:MAILTO:collector_of_music@yahoo.com
DTSTART;TZID=Etc/GMT+0:20250212T180000
DTEND;TZID=Etc/GMT+0:20250212T190000
X-ALT-DESC;FMTTYPE=TEXT/HTML:The new federal administration has announced p
 lans for a large-scale deportation operation and promised raids in major c
 ities. The ACLU needs your help to prepare immigrant families for potentia
 l raids and other enforcement actions. The ACLU is seeking volunteers with
  experience in human services\, teaching\, social work\, or related fields
  to assist families in creating&amp;hellip\;
CATEGORIES:other
URL;VALUE=URI:https://danversdemocrats.org/mc-events/aclu-immigrant-family-
 emergency-preparedness-trainings/
METHOD:PUBLISH
END:VEVENT
END:VCALENDAR