BEGIN:VCALENDAR
VERSION:2.0
PRODID:spatie/icalendar-generator
DESCRIPTION:Events from DanversDems
X-WR-CALDESC:Events from DanversDems
REFRESH-INTERVAL;VALUE=DURATION:PT1440M
X-PUBLISHED-TTL:PT1440M
BEGIN:VTIMEZONE
TZID:Etc/GMT+0
BEGIN:STANDARD
DTSTART:20240629T160000Z
TZOFFSETFROM:+0000
TZOFFSETTO:+0000
END:STANDARD
END:VTIMEZONE
BEGIN:VTIMEZONE
TZID:UTC
BEGIN:STANDARD
DTSTART:20250728T062602Z
TZOFFSETFROM:+0000
TZOFFSETTO:+0000
END:STANDARD
END:VTIMEZONE
BEGIN:VEVENT
UID:51-46
DTSTAMP:20260424T062602Z
SUMMARY:ACLU Town Hall with Joy Reid and Sen. Murphy - RSVP
LOCATION:
ORGANIZER;CN=Lou:MAILTO:collector_of_music@yahoo.com
DTSTART;TZID=Etc/GMT+0:20250326T160000
DTEND;TZID=Etc/GMT+0:20250326T170000
X-ALT-DESC;FMTTYPE=TEXT/HTML:The Trump administration is pushing every limi
 t\, abusing every power\, and exploiting every loophole to silence dissent
  and punish people who disagree. These are deliberate tactics designed to 
 enforce compliance through fear\, force\, and censorship. We are clearly i
 n a defining moment. This week\, join us for a virtual town hall on Wednes
 day\, March 26\,&amp;hellip\;
CATEGORIES:other
URL;VALUE=URI:https://danversdemocrats.org/mc-events/aclu-town-hall-with-jo
 y-reid-and-sen-murphy-rsvp/
METHOD:PUBLISH
END:VEVENT
END:VCALENDAR