BEGIN:VCALENDAR
VERSION:2.0
PRODID:spatie/icalendar-generator
DESCRIPTION:Events from DanversDems
X-WR-CALDESC:Events from DanversDems
REFRESH-INTERVAL;VALUE=DURATION:PT1440M
X-PUBLISHED-TTL:PT1440M
BEGIN:VTIMEZONE
TZID:Etc/GMT+0
BEGIN:STANDARD
DTSTART:20250808T070000Z
TZOFFSETFROM:+0000
TZOFFSETTO:+0000
END:STANDARD
END:VTIMEZONE
BEGIN:VTIMEZONE
TZID:UTC
BEGIN:STANDARD
DTSTART:20250727T171904Z
TZOFFSETFROM:+0000
TZOFFSETTO:+0000
END:STANDARD
END:VTIMEZONE
BEGIN:VEVENT
UID:190-110
DTSTAMP:20260423T171904Z
SUMMARY:Annual Town Election
LOCATION:
ORGANIZER;CN=Lou:MAILTO:collector_of_music@yahoo.com
RRULE:FREQ=YEARLY;BYMONTH=05;BYDAY=05;UNTIL=20261231T000000Z
DTSTART;TZID=Etc/GMT+0:20260505T070000
DTEND;TZID=Etc/GMT+0:20260506T200000
X-ALT-DESC;FMTTYPE=TEXT/HTML:Field House 60 Cabot Road Danvers\, MA 01923
CATEGORIES:Town of Danvers
URL;VALUE=URI:https://danversdemocrats.org/mc-events/annual-town-election-2
 /?mc_id=190
METHOD:PUBLISH
END:VEVENT
END:VCALENDAR