BEGIN:VCALENDAR
VERSION:2.0
PRODID:spatie/icalendar-generator
DESCRIPTION:Events from DanversDems
X-WR-CALDESC:Events from DanversDems
REFRESH-INTERVAL;VALUE=DURATION:PT1440M
X-PUBLISHED-TTL:PT1440M
BEGIN:VTIMEZONE
TZID:Etc/GMT+0
BEGIN:STANDARD
DTSTART:20240514T170000Z
TZOFFSETFROM:+0000
TZOFFSETTO:+0000
END:STANDARD
END:VTIMEZONE
BEGIN:VTIMEZONE
TZID:UTC
BEGIN:STANDARD
DTSTART:20250728T062325Z
TZOFFSETFROM:+0000
TZOFFSETTO:+0000
END:STANDARD
END:VTIMEZONE
BEGIN:VEVENT
UID:19-15
DTSTAMP:20260424T062325Z
SUMMARY:Black Excellence - A Tribute to Jazz
LOCATION:Maple Street Church 90 Maple St  Danvers MA 01923
ORGANIZER;CN=Lou:MAILTO:collector_of_music@yahoo.com
DTSTART;TZID=Etc/GMT+0:20250208T170000
DTEND;TZID=Etc/GMT+0:20250208T190000
X-ALT-DESC;FMTTYPE=TEXT/HTML:Hunan Rights Inclusion Committee and Mocha Mom
 s Central Northshore present: Black Excellence - A Tribute to Jazz Featuri
 ng Cellist Marshunda Saturday\, February 8 5 PM to 7 PM Maple Street Churc
 h 90 Maple Street \, Danvers
CATEGORIES:other
URL;VALUE=URI:https://danversdemocrats.org/mc-events/black-excellence-a-tri
 bute-to-jazz/
METHOD:PUBLISH
END:VEVENT
END:VCALENDAR