BEGIN:VCALENDAR
VERSION:2.0
PRODID:spatie/icalendar-generator
DESCRIPTION:Events from DanversDems
X-WR-CALDESC:Events from DanversDems
REFRESH-INTERVAL;VALUE=DURATION:PT1440M
X-PUBLISHED-TTL:PT1440M
BEGIN:VTIMEZONE
TZID:Etc/GMT+0
BEGIN:STANDARD
DTSTART:20240528T140000Z
TZOFFSETFROM:+0000
TZOFFSETTO:+0000
END:STANDARD
END:VTIMEZONE
BEGIN:VTIMEZONE
TZID:UTC
BEGIN:STANDARD
DTSTART:20250728T070115Z
TZOFFSETFROM:+0000
TZOFFSETTO:+0000
END:STANDARD
END:VTIMEZONE
BEGIN:VEVENT
UID:25-20
DTSTAMP:20260424T070115Z
SUMMARY:Community Coffee Hour with Sally Kerans
LOCATION:Brothers Deli 31 Maple Street  Danvers MA 01923
ORGANIZER;CN=Lou:MAILTO:collector_of_music@yahoo.com
DTSTART;TZID=Etc/GMT+0:20250222T140000
DTEND;TZID=Etc/GMT+0:20250222T150000
X-ALT-DESC;FMTTYPE=TEXT/HTML:Meet with State Rep Sally Kerans at Brothers D
 eli on February 22 from 2 - 3 PM.
CATEGORIES:other
URL;VALUE=URI:https://danversdemocrats.org/mc-events/community-coffee-hour-
 with-sally-kerans/
METHOD:PUBLISH
END:VEVENT
END:VCALENDAR