BEGIN:VCALENDAR
VERSION:2.0
PRODID:spatie/icalendar-generator
DESCRIPTION:Events from DanversDems
X-WR-CALDESC:Events from DanversDems
REFRESH-INTERVAL;VALUE=DURATION:PT1440M
X-PUBLISHED-TTL:PT1440M
BEGIN:VTIMEZONE
TZID:Etc/GMT+0
BEGIN:STANDARD
DTSTART:20241201T170000Z
TZOFFSETFROM:+0000
TZOFFSETTO:+0000
END:STANDARD
END:VTIMEZONE
BEGIN:VTIMEZONE
TZID:UTC
BEGIN:STANDARD
DTSTART:20250727T220900Z
TZOFFSETFROM:+0000
TZOFFSETTO:+0000
END:STANDARD
END:VTIMEZONE
BEGIN:VEVENT
UID:110-94
DTSTAMP:20260423T220900Z
SUMMARY:Community Rpundtable with Town Manager Jill Cahill
LOCATION:
ORGANIZER;CN=Lou:MAILTO:collector_of_music@yahoo.com
DTSTART;TZID=Etc/GMT+0:20250828T170000
DTEND;TZID=Etc/GMT+0:20250828T190000
X-ALT-DESC;FMTTYPE=TEXT/HTML:Details\, including dates\, times\, and locati
 ons\, are available on our Community Roundtable page and I have attached a
  flyer as well.
CATEGORIES:Town of Danvers
URL;VALUE=URI:https://danversdemocrats.org/mc-events/community-rpundtable-w
 ith-town-manager-jill-cahill/
METHOD:PUBLISH
END:VEVENT
END:VCALENDAR