BEGIN:VCALENDAR
VERSION:2.0
PRODID:spatie/icalendar-generator
DESCRIPTION:Events from DanversDems
X-WR-CALDESC:Events from DanversDems
REFRESH-INTERVAL;VALUE=DURATION:PT1440M
X-PUBLISHED-TTL:PT1440M
BEGIN:VTIMEZONE
TZID:Etc/GMT+0
BEGIN:STANDARD
DTSTART:20240618T143000Z
TZOFFSETFROM:+0000
TZOFFSETTO:+0000
END:STANDARD
END:VTIMEZONE
BEGIN:VTIMEZONE
TZID:UTC
BEGIN:STANDARD
DTSTART:20250728T071244Z
TZOFFSETFROM:+0000
TZOFFSETTO:+0000
END:STANDARD
END:VTIMEZONE
BEGIN:VEVENT
UID:39-34
DTSTAMP:20260424T071244Z
SUMMARY:Congressman Moulton Town Meeting - March 15
LOCATION:Masconoment High School 20 Endicott Road  Boxford MA
ORGANIZER;CN=Lou:MAILTO:collector_of_music@yahoo.com
DTSTART;TZID=Etc/GMT+0:20250315T143000
DTEND;TZID=Etc/GMT+0:20250315T153000
X-ALT-DESC;FMTTYPE=TEXT/HTML:DETAILS: WHAT: In-Person Town Hall Meeting WHE
 N: Saturday\, March 15th // 2:30 PM to 3:30 PM ET WHERE: Masconomet High S
 chool (20 Endicott Road\, Boxford\, MA) GUIDELINES:  Doors open no earlie
 r than 1:30 PM ET Admission is first come\, first served Registration on-s
 ite is required No signs/flags No bags allowed except for small clutches o
 r&amp;hellip\;
CATEGORIES:other
URL;VALUE=URI:https://danversdemocrats.org/mc-events/congressman-moulton-to
 wn-meeting-march-15/
METHOD:PUBLISH
END:VEVENT
END:VCALENDAR