BEGIN:VCALENDAR
VERSION:2.0
PRODID:spatie/icalendar-generator
DESCRIPTION:Events from DanversDems
X-WR-CALDESC:Events from DanversDems
REFRESH-INTERVAL;VALUE=DURATION:PT1440M
X-PUBLISHED-TTL:PT1440M
BEGIN:VTIMEZONE
TZID:Etc/GMT+0
BEGIN:STANDARD
DTSTART:20241212T190000Z
TZOFFSETFROM:+0000
TZOFFSETTO:+0000
END:STANDARD
END:VTIMEZONE
BEGIN:VTIMEZONE
TZID:UTC
BEGIN:STANDARD
DTSTART:20250727T215255Z
TZOFFSETFROM:+0000
TZOFFSETTO:+0000
END:STANDARD
END:VTIMEZONE
BEGIN:VEVENT
UID:130-99
DTSTAMP:20260423T215255Z
SUMMARY:Convention Delegate Meeting
LOCATION:
ORGANIZER;CN=Lou:MAILTO:collector_of_music@yahoo.com
DTSTART;TZID=Etc/GMT+0:20250908T190000
DTEND;TZID=Etc/GMT+0:20250908T200000
X-ALT-DESC;FMTTYPE=TEXT/HTML:Please join us for a state convention briefing
  with Governor Maura Healey and MDP Chair Steve Kerrigan.   2025 MassDems
  Convention Delegate Briefing with Governor Maura Healey Monday September 
 8th at 7 PM Zoom   During this briefing\, we’ll cover:     - What to 
 expect at the 2025 MassDems Platform Convention - How the&amp;hellip\;
CATEGORIES:MassDems
URL;VALUE=URI:https://danversdemocrats.org/mc-events/convention-delegate-me
 eting/
METHOD:PUBLISH
END:VEVENT
END:VCALENDAR