BEGIN:VCALENDAR
VERSION:2.0
PRODID:spatie/icalendar-generator
DESCRIPTION:Events from DanversDems
X-WR-CALDESC:Events from DanversDems
REFRESH-INTERVAL;VALUE=DURATION:PT1440M
X-PUBLISHED-TTL:PT1440M
BEGIN:VTIMEZONE
TZID:Etc/GMT+0
BEGIN:STANDARD
DTSTART:20240728T190000Z
TZOFFSETFROM:+0000
TZOFFSETTO:+0000
END:STANDARD
END:VTIMEZONE
BEGIN:VTIMEZONE
TZID:UTC
BEGIN:STANDARD
DTSTART:20250728T031858Z
TZOFFSETFROM:+0000
TZOFFSETTO:+0000
END:STANDARD
END:VTIMEZONE
BEGIN:VEVENT
UID:26-21
DTSTAMP:20260424T031858Z
SUMMARY:Danvers Convention Delegate Caucus
LOCATION:George Peabody Library of Danvers 15 Sylvan St  Danvers MA 01923
ORGANIZER;CN=Lou:MAILTO:collector_of_music@yahoo.com
DTSTART;TZID=Etc/GMT+0:20250424T190000
DTEND;TZID=Etc/GMT+0:20250424T210000
X-ALT-DESC;FMTTYPE=TEXT/HTML:7:00 PM at the Danvers Library. Gordon Room Da
 nversDems Convention Caucus We will be electing 14 delegates and 4 alterna
 tes\; gender balanced. Elected officials\, state committee members and t
 he town chair automatically attend and do not count toward the town alloca
 tion of 14 delegates. A person does not need to be a member of the Danvers
  Democratic&amp;hellip\;
CATEGORIES:DanversDems
URL;VALUE=URI:https://danversdemocrats.org/mc-events/danvers-convention-del
 egate-caucus/
METHOD:PUBLISH
END:VEVENT
END:VCALENDAR