BEGIN:VCALENDAR
VERSION:2.0
PRODID:spatie/icalendar-generator
DESCRIPTION:Events from DanversDems
X-WR-CALDESC:Events from DanversDems
REFRESH-INTERVAL;VALUE=DURATION:PT1440M
X-PUBLISHED-TTL:PT1440M
BEGIN:VTIMEZONE
TZID:Etc/GMT+0
BEGIN:STANDARD
DTSTART:20240720T190000Z
TZOFFSETFROM:+0000
TZOFFSETTO:+0000
END:STANDARD
END:VTIMEZONE
BEGIN:VTIMEZONE
TZID:UTC
BEGIN:STANDARD
DTSTART:20250728T031730Z
TZOFFSETFROM:+0000
TZOFFSETTO:+0000
END:STANDARD
END:VTIMEZONE
BEGIN:VEVENT
UID:70-57
DTSTAMP:20260424T031730Z
SUMMARY:Danvers Finance Committee Meeting
LOCATION:Danvers High School Cabot Road  Danvers MA 01923
ORGANIZER;CN=Lou:MAILTO:collector_of_music@yahoo.com
DTSTART;TZID=Etc/GMT+0:20250416T190000
DTEND;TZID=Etc/GMT+0:20250416T210000
X-ALT-DESC;FMTTYPE=TEXT/HTML:Danvers Finance Committee Meeting Toomey Room 
 7:00 PM
CATEGORIES:Town of Danvers
URL;VALUE=URI:https://danversdemocrats.org/mc-events/danvers-finance-commit
 tee-meeting-2/
METHOD:PUBLISH
END:VEVENT
END:VCALENDAR