BEGIN:VCALENDAR
VERSION:2.0
PRODID:spatie/icalendar-generator
DESCRIPTION:Events from DanversDems
X-WR-CALDESC:Events from DanversDems
REFRESH-INTERVAL;VALUE=DURATION:PT1440M
X-PUBLISHED-TTL:PT1440M
BEGIN:VTIMEZONE
TZID:Etc/GMT+0
BEGIN:STANDARD
DTSTART:20241123T190000Z
TZOFFSETFROM:+0000
TZOFFSETTO:+0000
END:STANDARD
END:VTIMEZONE
BEGIN:VTIMEZONE
TZID:UTC
BEGIN:STANDARD
DTSTART:20250727T185853Z
TZOFFSETFROM:+0000
TZOFFSETTO:+0000
END:STANDARD
END:VTIMEZONE
BEGIN:VEVENT
UID:131-100
DTSTAMP:20260423T185853Z
SUMMARY:Danvers Historical Society 250th anniversary of the American Revolu
 tion #1
LOCATION:
ORGANIZER;CN=Lou:MAILTO:collector_of_music@yahoo.com
DTSTART;TZID=Etc/GMT+0:20250820T190000
DTEND;TZID=Etc/GMT+0:20250820T200000
X-ALT-DESC;FMTTYPE=TEXT/HTML:The Danvers Historical Society will host three
  events over the next two months to celebrate the 250th anniversary of the
  American Revolution. Could the first shot of the war have been fired in D
 anvers\, not at the famous battles of Lexington and Concord? William Kosso
 wan will discuss that theory during a presentation at Tapley Memorial&amp;hell
 ip\;
CATEGORIES:other
URL;VALUE=URI:https://danversdemocrats.org/mc-events/danvers-historical-soc
 iety-250th-anniversary-of-the-american-revolution-1/
METHOD:PUBLISH
END:VEVENT
END:VCALENDAR