BEGIN:VCALENDAR
VERSION:2.0
PRODID:spatie/icalendar-generator
DESCRIPTION:Events from DanversDems
X-WR-CALDESC:Events from DanversDems
REFRESH-INTERVAL;VALUE=DURATION:PT1440M
X-PUBLISHED-TTL:PT1440M
BEGIN:VTIMEZONE
TZID:Etc/GMT+0
BEGIN:STANDARD
DTSTART:20241218T130000Z
TZOFFSETFROM:+0000
TZOFFSETTO:+0000
END:STANDARD
END:VTIMEZONE
BEGIN:VTIMEZONE
TZID:UTC
BEGIN:STANDARD
DTSTART:20250728T025943Z
TZOFFSETFROM:+0000
TZOFFSETTO:+0000
END:STANDARD
END:VTIMEZONE
BEGIN:VEVENT
UID:132-101
DTSTAMP:20260424T025943Z
SUMMARY:Danvers Historical Society - 250th anniversary of the American Revo
 lution event #2
LOCATION:
ORGANIZER;CN=Lou:MAILTO:collector_of_music@yahoo.com
DTSTART;TZID=Etc/GMT+0:20250914T130000
DTEND;TZID=Etc/GMT+0:20250914T140000
X-ALT-DESC;FMTTYPE=TEXT/HTML:The Danvers Historical Society will host three
  events over the next two months to celebrate the 250th anniversary of the
  American Revolution. On Sunday\, Sept. 14\, a presentation and reenactmen
 t of Benedict Arnold’s troops moving through Danvers will begin at 1 p.m
 . inside Tapley Hall\, when local historian Dan Gagnon will discuss Arnold
 ’s presence in&amp;hellip\;
CATEGORIES:other
URL;VALUE=URI:https://danversdemocrats.org/mc-events/danvers-historical-soc
 iety-250th-anniversary-of-the-american-revolution-event-2/
METHOD:PUBLISH
END:VEVENT
END:VCALENDAR