BEGIN:VCALENDAR
VERSION:2.0
PRODID:spatie/icalendar-generator
DESCRIPTION:Events from DanversDems
X-WR-CALDESC:Events from DanversDems
REFRESH-INTERVAL;VALUE=DURATION:PT1440M
X-PUBLISHED-TTL:PT1440M
BEGIN:VTIMEZONE
TZID:Etc/GMT+0
BEGIN:STANDARD
DTSTART:20240910T120000Z
TZOFFSETFROM:+0000
TZOFFSETTO:+0000
END:STANDARD
END:VTIMEZONE
BEGIN:VTIMEZONE
TZID:UTC
BEGIN:STANDARD
DTSTART:20250727T231212Z
TZOFFSETFROM:+0000
TZOFFSETTO:+0000
END:STANDARD
END:VTIMEZONE
BEGIN:VEVENT
UID:92-79
DTSTAMP:20260423T231212Z
SUMMARY:Danvers Pride 2025
LOCATION:
ORGANIZER;CN=Lou:MAILTO:collector_of_music@yahoo.com
DTSTART;TZID=Etc/GMT+0:20250607T120000
DTEND;TZID=Etc/GMT+0:20250607T130000
X-ALT-DESC;FMTTYPE=TEXT/HTML:Thursday June 5 Pride Kickoff June 5 @ 5:00 PM
 . Flag Raising - Police department Saturday June 7 @ 12 PM Flag raising To
 wn Hall 1:00 PM Pride Walk 1:15 PM Pride Party - Library Lawn
CATEGORIES:Town of Danvers
URL;VALUE=URI:https://danversdemocrats.org/mc-events/danvers-pride-2025-2/
METHOD:PUBLISH
END:VEVENT
END:VCALENDAR