BEGIN:VCALENDAR
VERSION:2.0
PRODID:spatie/icalendar-generator
DESCRIPTION:Events from DanversDems
X-WR-CALDESC:Events from DanversDems
REFRESH-INTERVAL;VALUE=DURATION:PT1440M
X-PUBLISHED-TTL:PT1440M
BEGIN:VTIMEZONE
TZID:Etc/GMT+0
BEGIN:STANDARD
DTSTART:20240730T000000Z
TZOFFSETFROM:+0000
TZOFFSETTO:+0000
END:STANDARD
END:VTIMEZONE
BEGIN:VTIMEZONE
TZID:UTC
BEGIN:STANDARD
DTSTART:20250728T032247Z
TZOFFSETFROM:+0000
TZOFFSETTO:+0000
END:STANDARD
END:VTIMEZONE
BEGIN:VEVENT
UID:36-31
DTSTAMP:20260424T032247Z
SUMMARY:Danvers Town-Wide Clean Up
LOCATION:
ORGANIZER;CN=Lou:MAILTO:collector_of_music@yahoo.com
DTSTART;TZID=Etc/GMT+0;VALUE=DATE:20250426
DTEND;TZID=Etc/GMT+0;VALUE=DATE:20250427
X-ALT-DESC;FMTTYPE=TEXT/HTML:DPW has announced the date of the Danvers Wide
  Clean-Up 2025:  it is Saturday\, April 26th. More information to come.
CATEGORIES:Town of Danvers
URL;VALUE=URI:https://danversdemocrats.org/mc-events/danvers-town-wide-clea
 n-up/
METHOD:PUBLISH
END:VEVENT
END:VCALENDAR