BEGIN:VCALENDAR
VERSION:2.0
PRODID:spatie/icalendar-generator
DESCRIPTION:Events from DanversDems
X-WR-CALDESC:Events from DanversDems
REFRESH-INTERVAL;VALUE=DURATION:PT1440M
X-PUBLISHED-TTL:PT1440M
BEGIN:VTIMEZONE
TZID:Etc/GMT+0
BEGIN:STANDARD
DTSTART:20241015T093000Z
TZOFFSETFROM:+0000
TZOFFSETTO:+0000
END:STANDARD
END:VTIMEZONE
BEGIN:VTIMEZONE
TZID:UTC
BEGIN:STANDARD
DTSTART:20250727T231054Z
TZOFFSETFROM:+0000
TZOFFSETTO:+0000
END:STANDARD
END:VTIMEZONE
BEGIN:VEVENT
UID:105-89
DTSTAMP:20260423T231054Z
SUMMARY:DanversDems Breakfast
LOCATION:Brothers Deli 31 Maple Street  Danvers MA 01923
ORGANIZER;CN=Lou:MAILTO:collector_of_music@yahoo.com
DTSTART;TZID=Etc/GMT+0:20250712T093000
DTEND;TZID=Etc/GMT+0:20250712T103000
X-ALT-DESC;FMTTYPE=TEXT/HTML:Second Monthly Breakfast at Brothers Deli at 9
 :30 AM &amp;nbsp\; Occurs 2nd Saturday of each month &amp;nbsp\;
CATEGORIES:DanversDems
URL;VALUE=URI:https://danversdemocrats.org/mc-events/danversdems-breakfast-
 2/
METHOD:PUBLISH
END:VEVENT
END:VCALENDAR