BEGIN:VCALENDAR
VERSION:2.0
PRODID:spatie/icalendar-generator
DESCRIPTION:Events from DanversDems
X-WR-CALDESC:Events from DanversDems
REFRESH-INTERVAL;VALUE=DURATION:PT1440M
X-PUBLISHED-TTL:PT1440M
BEGIN:VTIMEZONE
TZID:Etc/GMT+0
BEGIN:STANDARD
DTSTART:20251014T093000Z
TZOFFSETFROM:+0000
TZOFFSETTO:+0000
END:STANDARD
END:VTIMEZONE
BEGIN:VTIMEZONE
TZID:UTC
BEGIN:STANDARD
DTSTART:20250727T185200Z
TZOFFSETFROM:+0000
TZOFFSETTO:+0000
END:STANDARD
END:VTIMEZONE
BEGIN:VEVENT
UID:149-97
DTSTAMP:20260423T185200Z
SUMMARY:DanversDems Breakfast
LOCATION:Brothers Deli 31 Maple Street  Danvers MA 01923
ORGANIZER;CN=Lou:MAILTO:collector_of_music@yahoo.com
RRULE:FREQ=MONTHLY;BYDAY=2SA;UNTIL=20261231T000000Z
DTSTART;TZID=Etc/GMT+0:20260711T093000
DTEND;TZID=Etc/GMT+0:20260711T103000
X-ALT-DESC;FMTTYPE=TEXT/HTML:Join us for our Saturday morning breakfast at 
 New Brothers Restaurant (31 Maple St) on at 9:30 am. Gathering is to enjoy
  a nice breakfast while visiting with our community members outside of our
  business meetings. If you would like to more about the DanversDems but do
 n't want to go to a meeting\, this is&amp;hellip\;
CATEGORIES:DanversDems
URL;VALUE=URI:https://danversdemocrats.org/mc-events/danversdems-breakfast-
 3/?mc_id=149
METHOD:PUBLISH
END:VEVENT
END:VCALENDAR