BEGIN:VCALENDAR
VERSION:2.0
PRODID:spatie/icalendar-generator
DESCRIPTION:Events from DanversDems
X-WR-CALDESC:Events from DanversDems
REFRESH-INTERVAL;VALUE=DURATION:PT1440M
X-PUBLISHED-TTL:PT1440M
BEGIN:VTIMEZONE
TZID:Etc/GMT+0
BEGIN:STANDARD
DTSTART:20240924T093000Z
TZOFFSETFROM:+0000
TZOFFSETTO:+0000
END:STANDARD
END:VTIMEZONE
BEGIN:VTIMEZONE
TZID:UTC
BEGIN:STANDARD
DTSTART:20250728T051827Z
TZOFFSETFROM:+0000
TZOFFSETTO:+0000
END:STANDARD
END:VTIMEZONE
BEGIN:VEVENT
UID:94-81
DTSTAMP:20260424T051827Z
SUMMARY:DanversDems Breakfast
LOCATION:
ORGANIZER;CN=Lou:MAILTO:collector_of_music@yahoo.com
DTSTART;TZID=Etc/GMT+0:20250621T093000
DTEND;TZID=Etc/GMT+0:20250621T113000
X-ALT-DESC;FMTTYPE=TEXT/HTML:Join us for our first Saturday morning breakfa
 st at New Brothers Restaurant on June 21st at 9:30 am. Location: 31 Maple 
 Street The purpose of this gathering is to enjoy a nice breakfast while vi
 siting with our community members outside of our business meetings.
CATEGORIES:DanversDems
URL;VALUE=URI:https://danversdemocrats.org/mc-events/danversdems-breakfast/
METHOD:PUBLISH
END:VEVENT
END:VCALENDAR