BEGIN:VCALENDAR
VERSION:2.0
PRODID:spatie/icalendar-generator
DESCRIPTION:Events from DanversDems
X-WR-CALDESC:Events from DanversDems
REFRESH-INTERVAL;VALUE=DURATION:PT1440M
X-PUBLISHED-TTL:PT1440M
BEGIN:VTIMEZONE
TZID:Etc/GMT+0
BEGIN:STANDARD
DTSTART:20240506T000000Z
TZOFFSETFROM:+0000
TZOFFSETTO:+0000
END:STANDARD
END:VTIMEZONE
BEGIN:VTIMEZONE
TZID:UTC
BEGIN:STANDARD
DTSTART:20250728T061450Z
TZOFFSETFROM:+0000
TZOFFSETTO:+0000
END:STANDARD
END:VTIMEZONE
BEGIN:VEVENT
UID:17-13
DTSTAMP:20260424T061450Z
SUMMARY:DanversDems Dues Request Date
LOCATION:Lou Bernazzani\, co-chair 151A Dayton St  Danvers MA 01923
ORGANIZER;CN=Lou:MAILTO:collector_of_music@yahoo.com
DTSTART;TZID=Etc/GMT+0;VALUE=DATE:20250131
DTEND;TZID=Etc/GMT+0;VALUE=DATE:20250201
X-ALT-DESC;FMTTYPE=TEXT/HTML:January is Membership month.  As in previous 
 years\, dues are $15 and are optional.  Donations can be made by check ma
 de out to the DDTC or via ActBlue. Click to Donate
CATEGORIES:DanversDems
URL;VALUE=URI:https://danversdemocrats.org/mc-events/danversdems-dues-reque
 st-date/
METHOD:PUBLISH
END:VEVENT
END:VCALENDAR