BEGIN:VCALENDAR
VERSION:2.0
PRODID:spatie/icalendar-generator
DESCRIPTION:Events from DanversDems
X-WR-CALDESC:Events from DanversDems
REFRESH-INTERVAL;VALUE=DURATION:PT1440M
X-PUBLISHED-TTL:PT1440M
BEGIN:VTIMEZONE
TZID:Etc/GMT+0
BEGIN:STANDARD
DTSTART:20240825T190000Z
TZOFFSETFROM:+0000
TZOFFSETTO:+0000
END:STANDARD
END:VTIMEZONE
BEGIN:VTIMEZONE
TZID:UTC
BEGIN:STANDARD
DTSTART:20250727T231859Z
TZOFFSETFROM:+0000
TZOFFSETTO:+0000
END:STANDARD
END:VTIMEZONE
BEGIN:VEVENT
UID:84-71
DTSTAMP:20260423T231859Z
SUMMARY:DanversDems Monthly Meeting
LOCATION:George Peabody Library of Danvers 15 Sylvan St  Danvers MA 01923
ORGANIZER;CN=Lou:MAILTO:collector_of_music@yahoo.com
DTSTART;TZID=Etc/GMT+0:20250522T190000
DTEND;TZID=Etc/GMT+0:20250522T210000
X-ALT-DESC;FMTTYPE=TEXT/HTML:Next meeting at the Danvers Library. Please be
  aware that the meeting room has been changed to the Classroom Conference 
 Room. This conference can be accessed by entering through the same door as
  for the Gordon Room and going through the children’s room or from the m
 ain entrance and taking the elevator downstairs. The meeting&amp;hellip\;
CATEGORIES:DanversDems
URL;VALUE=URI:https://danversdemocrats.org/mc-events/danversdems-monthly-me
 eting-3/
METHOD:PUBLISH
END:VEVENT
END:VCALENDAR