BEGIN:VCALENDAR
VERSION:2.0
PRODID:spatie/icalendar-generator
DESCRIPTION:Events from DanversDems
X-WR-CALDESC:Events from DanversDems
REFRESH-INTERVAL;VALUE=DURATION:PT1440M
X-PUBLISHED-TTL:PT1440M
BEGIN:VTIMEZONE
TZID:Etc/GMT+0
BEGIN:STANDARD
DTSTART:20250831T190000Z
TZOFFSETFROM:+0000
TZOFFSETTO:+0000
END:STANDARD
END:VTIMEZONE
BEGIN:VTIMEZONE
TZID:UTC
BEGIN:STANDARD
DTSTART:20250727T185729Z
TZOFFSETFROM:+0000
TZOFFSETTO:+0000
END:STANDARD
END:VTIMEZONE
BEGIN:VEVENT
UID:129-98
DTSTAMP:20260423T185729Z
SUMMARY:DanversDems Monthly Meeting
LOCATION:George Peabody Library of Danvers 15 Sylvan St  Danvers MA 01923
ORGANIZER;CN=Lou:MAILTO:collector_of_music@yahoo.com
RRULE:FREQ=MONTHLY;BYDAY=4TH;UNTIL=20260531T000000Z
DTSTART;TZID=Etc/GMT+0:20260528T190000
DTEND;TZID=Etc/GMT+0:20260528T204500
X-ALT-DESC;FMTTYPE=TEXT/HTML:Meeting will be on Thursday at 7:00 PM at the 
 Danvers Library. The meeting room will be in the Gordon Room\, if availabl
 e\, or the Classroom. Visit the DanverDems website www.danversdemocrats.or
 g for meeting location. Additional information for this meeting speakers a
 nd agenda will be posed on the DanversDems website as the meeting date app
 roaches. All&amp;hellip\;
CATEGORIES:DanversDems
URL;VALUE=URI:https://danversdemocrats.org/mc-events/danversdems-monthly-me
 eting-4/?mc_id=129
METHOD:PUBLISH
END:VEVENT
END:VCALENDAR