BEGIN:VCALENDAR
VERSION:2.0
PRODID:spatie/icalendar-generator
DESCRIPTION:Events from DanversDems
X-WR-CALDESC:Events from DanversDems
REFRESH-INTERVAL;VALUE=DURATION:PT1440M
X-PUBLISHED-TTL:PT1440M
BEGIN:VTIMEZONE
TZID:Etc/GMT+0
BEGIN:STANDARD
DTSTART:20240602T190000Z
TZOFFSETFROM:+0000
TZOFFSETTO:+0000
END:STANDARD
END:VTIMEZONE
BEGIN:VTIMEZONE
TZID:UTC
BEGIN:STANDARD
DTSTART:20250728T103256Z
TZOFFSETFROM:+0000
TZOFFSETTO:+0000
END:STANDARD
END:VTIMEZONE
BEGIN:VEVENT
UID:2-2
DTSTAMP:20260424T103256Z
SUMMARY:DanversDems Monthly Meeting
LOCATION:George Peabody Library of Danvers 15 Sylvan St  Danvers MA 01923
ORGANIZER;CN=Lou:MAILTO:collector_of_music@yahoo.com
DTSTART;TZID=Etc/GMT+0:20250227T190000
DTEND;TZID=Etc/GMT+0:20250227T210000
X-ALT-DESC;FMTTYPE=TEXT/HTML:Next meeting will be on Thursday\, February 27
  at the Danvers Library. Please be aware that the meeting room has been ch
 anged to the Classroom Conference Room. This conference can be accessed by
  entering through the same door as for the Gordon Room and going through t
 he children’s room or from the main entrance and&amp;hellip\;
CATEGORIES:DanversDems
URL;VALUE=URI:https://danversdemocrats.org/mc-events/danversdems-monthly-me
 eting/
METHOD:PUBLISH
END:VEVENT
END:VCALENDAR