BEGIN:VCALENDAR
VERSION:2.0
PRODID:spatie/icalendar-generator
DESCRIPTION:Events from DanversDems
X-WR-CALDESC:Events from DanversDems
REFRESH-INTERVAL;VALUE=DURATION:PT1440M
X-PUBLISHED-TTL:PT1440M
BEGIN:VTIMEZONE
TZID:Etc/GMT+0
BEGIN:STANDARD
DTSTART:20241004T180000Z
TZOFFSETFROM:+0000
TZOFFSETTO:+0000
END:STANDARD
END:VTIMEZONE
BEGIN:VTIMEZONE
TZID:UTC
BEGIN:STANDARD
DTSTART:20250728T023342Z
TZOFFSETFROM:+0000
TZOFFSETTO:+0000
END:STANDARD
END:VTIMEZONE
BEGIN:VEVENT
UID:95-82
DTSTAMP:20260424T023342Z
SUMMARY:DanversDems Party on the Patio
LOCATION:
ORGANIZER;CN=Lou:MAILTO:collector_of_music@yahoo.com
DTSTART;TZID=Etc/GMT+0:20250701T180000
DTEND;TZID=Etc/GMT+0:20250701T210000
X-ALT-DESC;FMTTYPE=TEXT/HTML:Come join The Danversdems on July 1st at Danve
 rsport Party on the Patio! The band that night is featuring our re-elected
  Select Board Member: Gardner Trask and his band: Decades of Rock. Cost: $
 10.00 per person WHERE: Danversport Yacht Club 161 Elliott Street WHEN: Sa
 turday\, July 1 Doors Open @ 5 PM\, band begins @&amp;hellip\;
CATEGORIES:DanversDems
URL;VALUE=URI:https://danversdemocrats.org/mc-events/danversdems-party-on-t
 he-patio/
METHOD:PUBLISH
END:VEVENT
END:VCALENDAR