BEGIN:VCALENDAR
VERSION:2.0
PRODID:spatie/icalendar-generator
DESCRIPTION:Events from DanversDems
X-WR-CALDESC:Events from DanversDems
REFRESH-INTERVAL;VALUE=DURATION:PT1440M
X-PUBLISHED-TTL:PT1440M
BEGIN:VTIMEZONE
TZID:Etc/GMT+0
BEGIN:STANDARD
DTSTART:20240917T160000Z
TZOFFSETFROM:+0000
TZOFFSETTO:+0000
END:STANDARD
END:VTIMEZONE
BEGIN:VTIMEZONE
TZID:UTC
BEGIN:STANDARD
DTSTART:20250727T221734Z
TZOFFSETFROM:+0000
TZOFFSETTO:+0000
END:STANDARD
END:VTIMEZONE
BEGIN:VEVENT
UID:90-77
DTSTAMP:20260423T221734Z
SUMMARY:DanversDems Scholarship Cook out
LOCATION:Bernazzani Home 151A Dayton St  Danvers MA 01923
ORGANIZER;CN=Lou:MAILTO:collector_of_music@yahoo.com
DTSTART;TZID=Etc/GMT+0:20250614T160000
DTEND;TZID=Etc/GMT+0:20250614T170000
X-ALT-DESC;FMTTYPE=TEXT/HTML:WHERE: Maria and Lou Bernazzani's home 151A Da
 yton Street WHEN: Saturday\, June 14 @ 4:00 PM RSVP by June 8 by clicking 
 here --&amp;gt\; RSVP Form &amp;nbsp\; Whether you're a long-time member\, new to
  the group or a friend\, this is a great opportunity to relax\, connect\,
  celebrate our recent achievements and have some fun. A highlight of&amp;hell
 ip\;
CATEGORIES:DanversDems
URL;VALUE=URI:https://danversdemocrats.org/mc-events/danversdems-scholarshi
 p-cook-out/
METHOD:PUBLISH
END:VEVENT
END:VCALENDAR