BEGIN:VCALENDAR
VERSION:2.0
PRODID:spatie/icalendar-generator
DESCRIPTION:Events from DanversDems
X-WR-CALDESC:Events from DanversDems
REFRESH-INTERVAL;VALUE=DURATION:PT1440M
X-PUBLISHED-TTL:PT1440M
BEGIN:VTIMEZONE
TZID:Etc/GMT+0
BEGIN:STANDARD
DTSTART:20241007T110000Z
TZOFFSETFROM:+0000
TZOFFSETTO:+0000
END:STANDARD
END:VTIMEZONE
BEGIN:VTIMEZONE
TZID:UTC
BEGIN:STANDARD
DTSTART:20250727T231817Z
TZOFFSETFROM:+0000
TZOFFSETTO:+0000
END:STANDARD
END:VTIMEZONE
BEGIN:VEVENT
UID:102-85
DTSTAMP:20260423T231817Z
SUMMARY:Declaration of Independence Reading
LOCATION:George Peabody Library of Danvers 15 Sylvan St  Danvers MA 01923
ORGANIZER;CN=Lou:MAILTO:collector_of_music@yahoo.com
DTSTART;TZID=Etc/GMT+0:20250704T110000
DTEND;TZID=Etc/GMT+0:20250704T120000
X-ALT-DESC;FMTTYPE=TEXT/HTML:Join or participate in a reading of the Declar
 ation of Independence on July 4 at Danvers Library Pavilion @ 11 AM.  The
  reading is done by residents of Danvers each reading a portion of  the d
 eclaration based on the number of people volunteering.
CATEGORIES:other
URL;VALUE=URI:https://danversdemocrats.org/mc-events/declaration-of-indepen
 dence-reading/
METHOD:PUBLISH
END:VEVENT
END:VCALENDAR