BEGIN:VCALENDAR
VERSION:2.0
PRODID:spatie/icalendar-generator
DESCRIPTION:Events from DanversDems
X-WR-CALDESC:Events from DanversDems
REFRESH-INTERVAL;VALUE=DURATION:PT1440M
X-PUBLISHED-TTL:PT1440M
BEGIN:VTIMEZONE
TZID:Etc/GMT+0
BEGIN:STANDARD
DTSTART:20240824T190000Z
TZOFFSETFROM:+0000
TZOFFSETTO:+0000
END:STANDARD
END:VTIMEZONE
BEGIN:VTIMEZONE
TZID:UTC
BEGIN:STANDARD
DTSTART:20250728T010739Z
TZOFFSETFROM:+0000
TZOFFSETTO:+0000
END:STANDARD
END:VTIMEZONE
BEGIN:VEVENT
UID:86-73
DTSTAMP:20260424T010739Z
SUMMARY:DHS Scholarship Awards Night
LOCATION:Danvers High School Cabot Road  Danvers MA 01923
ORGANIZER;CN=Lou:MAILTO:collector_of_music@yahoo.com
DTSTART;TZID=Etc/GMT+0:20250521T190000
DTEND;TZID=Etc/GMT+0:20250521T203000
X-ALT-DESC;FMTTYPE=TEXT/HTML:DHS Field House
CATEGORIES:other
URL;VALUE=URI:https://danversdemocrats.org/mc-events/dhs-scholarship-awards
 -night/
METHOD:PUBLISH
END:VEVENT
END:VCALENDAR