BEGIN:VCALENDAR
VERSION:2.0
PRODID:spatie/icalendar-generator
DESCRIPTION:Events from DanversDems
X-WR-CALDESC:Events from DanversDems
REFRESH-INTERVAL;VALUE=DURATION:PT1440M
X-PUBLISHED-TTL:PT1440M
BEGIN:VTIMEZONE
TZID:Etc/GMT+0
BEGIN:STANDARD
DTSTART:20240604T080000Z
TZOFFSETFROM:+0000
TZOFFSETTO:+0000
END:STANDARD
END:VTIMEZONE
BEGIN:VTIMEZONE
TZID:UTC
BEGIN:STANDARD
DTSTART:20250728T104307Z
TZOFFSETFROM:+0000
TZOFFSETTO:+0000
END:STANDARD
END:VTIMEZONE
BEGIN:VEVENT
UID:33-28
DTSTAMP:20260424T104307Z
SUMMARY:FalconFest Pancake Breakfast
LOCATION:
ORGANIZER;CN=Lou:MAILTO:collector_of_music@yahoo.com
DTSTART;TZID=Etc/GMT+0:20250301T080000
DTEND;TZID=Etc/GMT+0:20250301T120000
X-ALT-DESC;FMTTYPE=TEXT/HTML:Join us for the continuation of a delicious de
 cades old tradition! Enjoy a stack of pancakes\, kids activities\, and an 
 array of amazing raffles. Tickets may be purchased at the door or during o
 ur online pre-sale. Danvers High School Cafeteria &amp;nbsp\; $8 at the door. 
 $5 presale kids under 3 free &amp;nbsp\;
CATEGORIES:other
URL;VALUE=URI:https://danversdemocrats.org/mc-events/falconfest-pancake-bre
 akfast/
METHOD:PUBLISH
END:VEVENT
END:VCALENDAR