BEGIN:VCALENDAR
VERSION:2.0
PRODID:spatie/icalendar-generator
DESCRIPTION:Events from DanversDems
X-WR-CALDESC:Events from DanversDems
REFRESH-INTERVAL;VALUE=DURATION:PT1440M
X-PUBLISHED-TTL:PT1440M
BEGIN:VTIMEZONE
TZID:Etc/GMT+0
BEGIN:STANDARD
DTSTART:20240430T190000Z
TZOFFSETFROM:+0000
TZOFFSETTO:+0000
END:STANDARD
END:VTIMEZONE
BEGIN:VTIMEZONE
TZID:UTC
BEGIN:STANDARD
DTSTART:20250728T080547Z
TZOFFSETFROM:+0000
TZOFFSETTO:+0000
END:STANDARD
END:VTIMEZONE
BEGIN:VEVENT
UID:6-5
DTSTAMP:20260424T080547Z
SUMMARY:Find Your Community Cocktail Party
LOCATION:Durand House 3 Pickering Street  Danvers MA 01923
ORGANIZER;CN=Lou:MAILTO:collector_of_music@yahoo.com
DTSTART;TZID=Etc/GMT+0:20250125T190000
DTEND;TZID=Etc/GMT+0:20250125T200000
X-ALT-DESC;FMTTYPE=TEXT/HTML:Jillian &amp;amp\; Joe Durand invite you to a Comm
 unity Cocktail Party.  No agenda\, no speakers\, just a casual party and 
 an  opportunity to meet and mingle with like-minded neighbors from Danver
 s.
CATEGORIES:other
URL;VALUE=URI:https://danversdemocrats.org/mc-events/find-your-community-co
 cktail-party/
METHOD:PUBLISH
END:VEVENT
END:VCALENDAR