BEGIN:VCALENDAR
VERSION:2.0
PRODID:spatie/icalendar-generator
DESCRIPTION:Events from DanversDems
X-WR-CALDESC:Events from DanversDems
REFRESH-INTERVAL;VALUE=DURATION:PT1440M
X-PUBLISHED-TTL:PT1440M
BEGIN:VTIMEZONE
TZID:Etc/GMT+0
BEGIN:STANDARD
DTSTART:20241025T170000Z
TZOFFSETFROM:+0000
TZOFFSETTO:+0000
END:STANDARD
END:VTIMEZONE
BEGIN:VTIMEZONE
TZID:UTC
BEGIN:STANDARD
DTSTART:20250727T202524Z
TZOFFSETFROM:+0000
TZOFFSETTO:+0000
END:STANDARD
END:VTIMEZONE
BEGIN:VEVENT
UID:103-87
DTSTAMP:20260423T202524Z
SUMMARY:Glen Magna Garden Concert
LOCATION:
ORGANIZER;CN=Lou:MAILTO:collector_of_music@yahoo.com
DTSTART;TZID=Etc/GMT+0:20250722T170000
DTEND;TZID=Etc/GMT+0:20250722T200000
X-ALT-DESC;FMTTYPE=TEXT/HTML:DanversDems encourages you to come cheer on ou
 r very own Charlotte Jordan as her band\, Stroke of Luck\, performs at Sum
 mer Beer Garden at Glen Magna. Date: July 22nd Time:  5:00 - 8:00pm  (Ra
 in Date is July 23rd) $10 per person admission and a cash bar: I.D. REQUIR
 ED Tickets available on EVENTBRITE\, and at the&amp;hellip\;
CATEGORIES:Town of Danvers
URL;VALUE=URI:https://danversdemocrats.org/mc-events/glen-magna-garden-conc
 ert/
METHOD:PUBLISH
END:VEVENT
END:VCALENDAR