BEGIN:VCALENDAR
VERSION:2.0
PRODID:spatie/icalendar-generator
DESCRIPTION:Events from DanversDems
X-WR-CALDESC:Events from DanversDems
REFRESH-INTERVAL;VALUE=DURATION:PT1440M
X-PUBLISHED-TTL:PT1440M
BEGIN:VTIMEZONE
TZID:Etc/GMT+0
BEGIN:STANDARD
DTSTART:20240709T000000Z
TZOFFSETFROM:+0000
TZOFFSETTO:+0000
END:STANDARD
END:VTIMEZONE
BEGIN:VTIMEZONE
TZID:UTC
BEGIN:STANDARD
DTSTART:20250728T031556Z
TZOFFSETFROM:+0000
TZOFFSETTO:+0000
END:STANDARD
END:VTIMEZONE
BEGIN:VEVENT
UID:52-47
DTSTAMP:20260424T031556Z
SUMMARY:Hands Off! National Day of Action
LOCATION:
ORGANIZER;CN=Lou:MAILTO:collector_of_music@yahoo.com
DTSTART;TZID=Etc/GMT+0;VALUE=DATE:20250405
DTEND;TZID=Etc/GMT+0;VALUE=DATE:20250406
X-ALT-DESC;FMTTYPE=TEXT/HTML:Donald Trump and Elon Musk think this country 
 belongs to them. They're taking everything they can get their hands on\, a
 nd daring the world to stop them. On Saturday\, April 5th\, we're taking t
 o the streets nationwide to fight back with a clear message: Hands off! Bo
 ston and ALL of Massachusetts are fighting back! Senator&amp;hellip\;
CATEGORIES:other
URL;VALUE=URI:https://danversdemocrats.org/mc-events/hands-off-national-day
 -of-action/
METHOD:PUBLISH
END:VEVENT
END:VCALENDAR