BEGIN:VCALENDAR
VERSION:2.0
PRODID:spatie/icalendar-generator
DESCRIPTION:Events from DanversDems
X-WR-CALDESC:Events from DanversDems
REFRESH-INTERVAL;VALUE=DURATION:PT1440M
X-PUBLISHED-TTL:PT1440M
BEGIN:VTIMEZONE
TZID:Etc/GMT+0
BEGIN:STANDARD
DTSTART:20240709T140000Z
TZOFFSETFROM:+0000
TZOFFSETTO:+0000
END:STANDARD
END:VTIMEZONE
BEGIN:VTIMEZONE
TZID:UTC
BEGIN:STANDARD
DTSTART:20250728T065920Z
TZOFFSETFROM:+0000
TZOFFSETTO:+0000
END:STANDARD
END:VTIMEZONE
BEGIN:VEVENT
UID:56-51
DTSTAMP:20260424T065920Z
SUMMARY:Hands Off Rally - Gloucester
LOCATION:
ORGANIZER;CN=Lou:MAILTO:collector_of_music@yahoo.com
DTSTART;TZID=Etc/GMT+0:20250405T140000
DTEND;TZID=Etc/GMT+0:20250405T150000
X-ALT-DESC;FMTTYPE=TEXT/HTML:Join THOUSANDS of your fellow Americans on Bos
 ton Common for a rally to say #HANDSOFF loud and clear to Elon Musk and hi
 s band of wild children wreaking havoc on our Government. This is going to
  be a big one\, with multiple elected officials and community leaders call
 ing for folks to join us on the&amp;hellip\;
CATEGORIES:other
URL;VALUE=URI:https://danversdemocrats.org/mc-events/hands-off-rally-glouce
 ster/
METHOD:PUBLISH
END:VEVENT
END:VCALENDAR