BEGIN:VCALENDAR
VERSION:2.0
PRODID:spatie/icalendar-generator
DESCRIPTION:Events from DanversDems
X-WR-CALDESC:Events from DanversDems
REFRESH-INTERVAL;VALUE=DURATION:PT1440M
X-PUBLISHED-TTL:PT1440M
BEGIN:VTIMEZONE
TZID:Etc/GMT+0
BEGIN:STANDARD
DTSTART:20250921T190000Z
TZOFFSETFROM:+0000
TZOFFSETTO:+0000
END:STANDARD
END:VTIMEZONE
BEGIN:VTIMEZONE
TZID:UTC
BEGIN:STANDARD
DTSTART:20250727T185758Z
TZOFFSETFROM:+0000
TZOFFSETTO:+0000
END:STANDARD
END:VTIMEZONE
BEGIN:VEVENT
UID:183-109
DTSTAMP:20260423T185758Z
SUMMARY:Human Rights &amp;amp\; Inclusion Committee Monthly Meeting
LOCATION:
ORGANIZER;CN=Lou:MAILTO:collector_of_music@yahoo.com
RRULE:FREQ=MONTHLY;BYDAY=3TH;UNTIL=20261231T000000Z
DTSTART;TZID=Etc/GMT+0:20260618T190000
DTEND;TZID=Etc/GMT+0:20260618T210000
X-ALT-DESC;FMTTYPE=TEXT/HTML:
CATEGORIES:Town of Danvers
URL;VALUE=URI:https://danversdemocrats.org/mc-events/human-rights-inclusion
 -committee-monthly-meeting/?mc_id=183
METHOD:PUBLISH
END:VEVENT
END:VCALENDAR