BEGIN:VCALENDAR
VERSION:2.0
PRODID:spatie/icalendar-generator
DESCRIPTION:Events from DanversDems
X-WR-CALDESC:Events from DanversDems
REFRESH-INTERVAL;VALUE=DURATION:PT1440M
X-PUBLISHED-TTL:PT1440M
BEGIN:VTIMEZONE
TZID:Etc/GMT+0
BEGIN:STANDARD
DTSTART:20240625T120000Z
TZOFFSETFROM:+0000
TZOFFSETTO:+0000
END:STANDARD
END:VTIMEZONE
BEGIN:VTIMEZONE
TZID:UTC
BEGIN:STANDARD
DTSTART:20250728T080300Z
TZOFFSETFROM:+0000
TZOFFSETTO:+0000
END:STANDARD
END:VTIMEZONE
BEGIN:VEVENT
UID:47-42
DTSTAMP:20260424T080300Z
SUMMARY:Indivisible Tesla Protests
LOCATION:Tesla North Shore Mall 210 Andover St  Peabody MA 01923
ORGANIZER;CN=Lou:MAILTO:collector_of_music@yahoo.com
RRULE:FREQ=WEEKLY;UNTIL=20250329T000000Z
DTSTART;TZID=Etc/GMT+0:20250322T120000
DTEND;TZID=Etc/GMT+0:20250322T140000
X-ALT-DESC;FMTTYPE=TEXT/HTML:Tesla Protests Saturdays March 22nd &amp;amp\; Mar
 ch 29th 12-2pm Tesla Peabody 210 Andover St\, Peabody\, MA 01960 No RSVP r
 equired
CATEGORIES:other
URL;VALUE=URI:https://danversdemocrats.org/mc-events/indivisible-tesla-prot
 ests/?mc_id=47
METHOD:PUBLISH
END:VEVENT
END:VCALENDAR