BEGIN:VCALENDAR
VERSION:2.0
PRODID:spatie/icalendar-generator
DESCRIPTION:Events from DanversDems
X-WR-CALDESC:Events from DanversDems
REFRESH-INTERVAL;VALUE=DURATION:PT1440M
X-PUBLISHED-TTL:PT1440M
BEGIN:VTIMEZONE
TZID:Etc/GMT+0
BEGIN:STANDARD
DTSTART:20240625T100000Z
TZOFFSETFROM:+0000
TZOFFSETTO:+0000
END:STANDARD
END:VTIMEZONE
BEGIN:VTIMEZONE
TZID:UTC
BEGIN:STANDARD
DTSTART:20250728T082151Z
TZOFFSETFROM:+0000
TZOFFSETTO:+0000
END:STANDARD
END:VTIMEZONE
BEGIN:VEVENT
UID:22-18
DTSTAMP:20260424T082151Z
SUMMARY:Ipswich DTC Annual Fundraising Breakfast
LOCATION:VFW 110 County Road  Ipswich MA
ORGANIZER;CN=Lou:MAILTO:collector_of_music@yahoo.com
DTSTART;TZID=Etc/GMT+0:20250322T100000
DTEND;TZID=Etc/GMT+0:20250322T120000
X-ALT-DESC;FMTTYPE=TEXT/HTML:Join us for our Annual Breakfast Featuring Joy
 ce Mandell\, Regional Organizer for Abundant Housing Massachusetts. Invite
 d speakers include Seth Moulton\, Kristin Kassner\, Eileen Duff\, Eunice Z
 eigler\, and Elizabeth Warren’s video message. Honoring The Open Door an
 d Three Sisters Garden Project with our annual Community Service Award. Ti
 ckets and Donations at Act Blue actblue.com/donate/ipswich2025 Donations b
 y&amp;hellip\;
CATEGORIES:other
URL;VALUE=URI:https://danversdemocrats.org/mc-events/ipswich-dtc-annual-fun
 draising-breakfast/
METHOD:PUBLISH
END:VEVENT
END:VCALENDAR