BEGIN:VCALENDAR
VERSION:2.0
PRODID:spatie/icalendar-generator
DESCRIPTION:Events from DanversDems
X-WR-CALDESC:Events from DanversDems
REFRESH-INTERVAL;VALUE=DURATION:PT1440M
X-PUBLISHED-TTL:PT1440M
BEGIN:VTIMEZONE
TZID:Etc/GMT+0
BEGIN:STANDARD
DTSTART:20240920T140000Z
TZOFFSETFROM:+0000
TZOFFSETTO:+0000
END:STANDARD
END:VTIMEZONE
BEGIN:VTIMEZONE
TZID:UTC
BEGIN:STANDARD
DTSTART:20250727T233857Z
TZOFFSETFROM:+0000
TZOFFSETTO:+0000
END:STANDARD
END:VTIMEZONE
BEGIN:VEVENT
UID:99-84
DTSTAMP:20260423T233857Z
SUMMARY:Juneteenth Celebration - June 17
LOCATION:Danvers Town Hall 1 Sylvan St  Danvers MA 01923
ORGANIZER;CN=Lou:MAILTO:collector_of_music@yahoo.com
DTSTART;TZID=Etc/GMT+0:20250617T140000
DTEND;TZID=Etc/GMT+0:20250617T150000
X-ALT-DESC;FMTTYPE=TEXT/HTML:Join us in front of Town Hall on Tuesday\, Jun
 e 17 at 2:00 PM\, for the 5th annual Juneteenth Celebration. The North Sho
 re Juneteenth Association will be back to lead our ceremony of poetry\, so
 ng\, and remarks.
CATEGORIES:Town of Danvers
URL;VALUE=URI:https://danversdemocrats.org/mc-events/juneteenth-celebration
 -june-17/
METHOD:PUBLISH
END:VEVENT
END:VCALENDAR