BEGIN:VCALENDAR
VERSION:2.0
PRODID:spatie/icalendar-generator
DESCRIPTION:Events from DanversDems
X-WR-CALDESC:Events from DanversDems
REFRESH-INTERVAL;VALUE=DURATION:PT1440M
X-PUBLISHED-TTL:PT1440M
BEGIN:VTIMEZONE
TZID:Etc/GMT+0
BEGIN:STANDARD
DTSTART:20241016T140000Z
TZOFFSETFROM:+0000
TZOFFSETTO:+0000
END:STANDARD
END:VTIMEZONE
BEGIN:VTIMEZONE
TZID:UTC
BEGIN:STANDARD
DTSTART:20250727T202453Z
TZOFFSETFROM:+0000
TZOFFSETTO:+0000
END:STANDARD
END:VTIMEZONE
BEGIN:VEVENT
UID:111-95
DTSTAMP:20260423T202453Z
SUMMARY:Lynn Dems Ice Cream Social
LOCATION:
ORGANIZER;CN=Lou:MAILTO:collector_of_music@yahoo.com
DTSTART;TZID=Etc/GMT+0:20250713T140000
DTEND;TZID=Etc/GMT+0:20250713T160000
X-ALT-DESC;FMTTYPE=TEXT/HTML:Get the scoop from your fellow Democrats! Join
  us for a Sunday of sundaes\, speeches\, &amp;amp\; socializing! Sunday\, July
  13th 2pm-4pm Lynn Museum Courtyard &amp;amp\; Park 590 Washington Street $15 
 per person/$25 per family/$50 per sponsor Tickets available here or plea
 se send a check\, payable to Lynn Democratic City Committee (LDCC)\, to: D
 ave Bowen\, 12 Westview Road\,&amp;hellip\;
CATEGORIES:other
URL;VALUE=URI:https://danversdemocrats.org/mc-events/lynn-dems-ice-cream-so
 cial/
METHOD:PUBLISH
END:VEVENT
END:VCALENDAR