BEGIN:VCALENDAR
VERSION:2.0
PRODID:spatie/icalendar-generator
DESCRIPTION:Events from DanversDems
X-WR-CALDESC:Events from DanversDems
REFRESH-INTERVAL;VALUE=DURATION:PT1440M
X-PUBLISHED-TTL:PT1440M
BEGIN:VTIMEZONE
TZID:Etc/GMT+0
BEGIN:STANDARD
DTSTART:20250424T103000Z
TZOFFSETFROM:+0000
TZOFFSETTO:+0000
END:STANDARD
END:VTIMEZONE
BEGIN:VTIMEZONE
TZID:UTC
BEGIN:STANDARD
DTSTART:20250727T203244Z
TZOFFSETFROM:+0000
TZOFFSETTO:+0000
END:STANDARD
END:VTIMEZONE
BEGIN:VEVENT
UID:192-111
DTSTAMP:20260423T203244Z
SUMMARY:Martin Luther King Jr Day of Service
LOCATION:
ORGANIZER;CN=Lou:MAILTO:collector_of_music@yahoo.com
DTSTART;TZID=Etc/GMT+0:20260119T103000
DTEND;TZID=Etc/GMT+0:20260119T140000
X-ALT-DESC;FMTTYPE=TEXT/HTML:The Danvers Dems invite you to join us for a M
 LK Jr. National DAY OF SERVICE January 19\, 2026 • 10:30am - 2:00pm The 
 Danvers People to People Food Pantry\, 23 Sylvan Street\, Danvers (Across 
 from Town Hall) Our goal is to collect donations of items most often asked
  for at the pantry such as&amp;hellip\;
CATEGORIES:DanversDems
URL;VALUE=URI:https://danversdemocrats.org/mc-events/martin-luther-king-jr-
 day-of-service/
METHOD:PUBLISH
END:VEVENT
END:VCALENDAR