BEGIN:VCALENDAR
VERSION:2.0
PRODID:spatie/icalendar-generator
DESCRIPTION:Events from DanversDems
X-WR-CALDESC:Events from DanversDems
REFRESH-INTERVAL;VALUE=DURATION:PT1440M
X-PUBLISHED-TTL:PT1440M
BEGIN:VTIMEZONE
TZID:Etc/GMT+0
BEGIN:STANDARD
DTSTART:20240428T190000Z
TZOFFSETFROM:+0000
TZOFFSETTO:+0000
END:STANDARD
END:VTIMEZONE
BEGIN:VTIMEZONE
TZID:UTC
BEGIN:STANDARD
DTSTART:20250728T083046Z
TZOFFSETFROM:+0000
TZOFFSETTO:+0000
END:STANDARD
END:VTIMEZONE
BEGIN:VEVENT
UID:15-12
DTSTAMP:20260424T083046Z
SUMMARY:MassDems Listening Tour
LOCATION:
ORGANIZER;CN=Lou:MAILTO:collector_of_music@yahoo.com
DTSTART;TZID=Etc/GMT+0:20250123T190000
DTEND;TZID=Etc/GMT+0:20250123T200000
X-ALT-DESC;FMTTYPE=TEXT/HTML:The MassDems have launched a virtual listeni
 ng tour to engage with communities across the Commonwealth.  This provid
 es an opportunity to express your views on the recent elections and areas 
 for growth.  These are public forums held via Zoom.  Congressional Distr
 ict 6 is scheduled for Thursday\, January 23 at 7:00 PM. (please note that
  my previous message had an&amp;hellip\;
CATEGORIES:MassDems
URL;VALUE=URI:https://danversdemocrats.org/mc-events/massdems-listening-tou
 r/
METHOD:PUBLISH
END:VEVENT
END:VCALENDAR