BEGIN:VCALENDAR
VERSION:2.0
PRODID:spatie/icalendar-generator
DESCRIPTION:Events from DanversDems
X-WR-CALDESC:Events from DanversDems
REFRESH-INTERVAL;VALUE=DURATION:PT1440M
X-PUBLISHED-TTL:PT1440M
BEGIN:VTIMEZONE
TZID:Etc/GMT+0
BEGIN:STANDARD
DTSTART:20241011T190000Z
TZOFFSETFROM:+0000
TZOFFSETTO:+0000
END:STANDARD
END:VTIMEZONE
BEGIN:VTIMEZONE
TZID:UTC
BEGIN:STANDARD
DTSTART:20250727T231459Z
TZOFFSETFROM:+0000
TZOFFSETTO:+0000
END:STANDARD
END:VTIMEZONE
BEGIN:VEVENT
UID:106-90
DTSTAMP:20260423T231459Z
SUMMARY:MassDems Platform Hearing in Beverly
LOCATION:
ORGANIZER;CN=Lou:MAILTO:collector_of_music@yahoo.com
DTSTART;TZID=Etc/GMT+0:20250708T190000
DTEND;TZID=Etc/GMT+0:20250708T210000
X-ALT-DESC;FMTTYPE=TEXT/HTML:The Massachusetts Democratic Party invites you
  to a Platform Meeting on Tuesday\, July 8th\, hosted by Democratic State 
 Committee member Rani Jacobson and the Beverly Dems\, to help shape our Pa
 rty’s values and priorities heading into the 2025 Convention. This meeti
 ng is an opportunity for Democrats in the metro west area and beyond to sh
 are&amp;hellip\;
CATEGORIES:MassDems
URL;VALUE=URI:https://danversdemocrats.org/mc-events/massdems-platform-hear
 ing-in-beverly/
METHOD:PUBLISH
END:VEVENT
END:VCALENDAR