BEGIN:VCALENDAR
VERSION:2.0
PRODID:spatie/icalendar-generator
DESCRIPTION:Events from DanversDems
X-WR-CALDESC:Events from DanversDems
REFRESH-INTERVAL;VALUE=DURATION:PT1440M
X-PUBLISHED-TTL:PT1440M
BEGIN:VTIMEZONE
TZID:Etc/GMT+0
BEGIN:STANDARD
DTSTART:20241217T090000Z
TZOFFSETFROM:+0000
TZOFFSETTO:+0000
END:STANDARD
END:VTIMEZONE
BEGIN:VTIMEZONE
TZID:UTC
BEGIN:STANDARD
DTSTART:20250727T231331Z
TZOFFSETFROM:+0000
TZOFFSETTO:+0000
END:STANDARD
END:VTIMEZONE
BEGIN:VEVENT
UID:24-19
DTSTAMP:20260423T231331Z
SUMMARY:MassDems State Convention
LOCATION:
ORGANIZER;CN=Lou:MAILTO:collector_of_music@yahoo.com
DTSTART;TZID=Etc/GMT+0:20250913T090000
DTEND;TZID=Etc/GMT+0:20250913T170000
X-ALT-DESC;FMTTYPE=TEXT/HTML:The State Convention will be Saturday Sept. 13
 \, 2025 at the Massachusetts Mutual Center in Springfield.
CATEGORIES:MassDems
URL;VALUE=URI:https://danversdemocrats.org/mc-events/massdems-state-convent
 ion/
METHOD:PUBLISH
END:VEVENT
END:VCALENDAR