BEGIN:VCALENDAR
VERSION:2.0
PRODID:spatie/icalendar-generator
DESCRIPTION:Events from DanversDems
X-WR-CALDESC:Events from DanversDems
REFRESH-INTERVAL;VALUE=DURATION:PT1440M
X-PUBLISHED-TTL:PT1440M
BEGIN:VTIMEZONE
TZID:Etc/GMT+0
BEGIN:STANDARD
DTSTART:20240830T090000Z
TZOFFSETFROM:+0000
TZOFFSETTO:+0000
END:STANDARD
END:VTIMEZONE
BEGIN:VTIMEZONE
TZID:UTC
BEGIN:STANDARD
DTSTART:20250728T025244Z
TZOFFSETFROM:+0000
TZOFFSETTO:+0000
END:STANDARD
END:VTIMEZONE
BEGIN:VEVENT
UID:93-80
DTSTAMP:20260424T025244Z
SUMMARY:Memorial Day Parade and Ceremony
LOCATION:
ORGANIZER;CN=Lou:MAILTO:collector_of_music@yahoo.com
DTSTART;TZID=Etc/GMT+0:20250527T090000
DTEND;TZID=Etc/GMT+0:20250527T110000
X-ALT-DESC;FMTTYPE=TEXT/HTML:parade begins at 9 AM following eh traditional
  route starting at Town Hall. Ceremony at 10 AM at Holten-Richmond School 
 Auditorium
CATEGORIES:Town of Danvers
URL;VALUE=URI:https://danversdemocrats.org/mc-events/memorial-day-parade-an
 d-ceremony/
METHOD:PUBLISH
END:VEVENT
END:VCALENDAR