BEGIN:VCALENDAR
VERSION:2.0
PRODID:spatie/icalendar-generator
DESCRIPTION:Events from DanversDems
X-WR-CALDESC:Events from DanversDems
REFRESH-INTERVAL;VALUE=DURATION:PT1440M
X-PUBLISHED-TTL:PT1440M
BEGIN:VTIMEZONE
TZID:Etc/GMT+0
BEGIN:STANDARD
DTSTART:20250131T180000Z
TZOFFSETFROM:+0000
TZOFFSETTO:+0000
END:STANDARD
END:VTIMEZONE
BEGIN:VTIMEZONE
TZID:UTC
BEGIN:STANDARD
DTSTART:20250728T025059Z
TZOFFSETFROM:+0000
TZOFFSETTO:+0000
END:STANDARD
END:VTIMEZONE
BEGIN:VEVENT
UID:134-103
DTSTAMP:20260424T025059Z
SUMMARY:Middleton State reps Panel Discussion
LOCATION:
ORGANIZER;CN=Lou:MAILTO:collector_of_music@yahoo.com
DTSTART;TZID=Etc/GMT+0:20251028T180000
DTEND;TZID=Etc/GMT+0:20251028T193000
X-ALT-DESC;FMTTYPE=TEXT/HTML:MiddletonDems are hosting a panel discussion w
 ith state senator Bruce Tarr (R\, 1E&amp;amp\;M)\, Sally Kerans (D\, 13th Esse
 x) and Brad Jones (R\, 20th Middlesex) on October 28th from 6-7:30 PM at M
 iddleton Congregational Church (66 Maple St\, Middleton).
CATEGORIES:other
URL;VALUE=URI:https://danversdemocrats.org/mc-events/middleton-state-reps-p
 anel-discussion/
METHOD:PUBLISH
END:VEVENT
END:VCALENDAR