BEGIN:VCALENDAR
VERSION:2.0
PRODID:spatie/icalendar-generator
DESCRIPTION:Events from DanversDems
X-WR-CALDESC:Events from DanversDems
REFRESH-INTERVAL;VALUE=DURATION:PT1440M
X-PUBLISHED-TTL:PT1440M
BEGIN:VTIMEZONE
TZID:Etc/GMT+0
BEGIN:STANDARD
DTSTART:20240929T000000Z
TZOFFSETFROM:+0000
TZOFFSETTO:+0000
END:STANDARD
END:VTIMEZONE
BEGIN:VTIMEZONE
TZID:UTC
BEGIN:STANDARD
DTSTART:20250727T235321Z
TZOFFSETFROM:+0000
TZOFFSETTO:+0000
END:STANDARD
END:VTIMEZONE
BEGIN:VEVENT
UID:101-86
DTSTAMP:20260423T235321Z
SUMMARY:NO DANVERSDEMS JUNE MEETING
LOCATION:
ORGANIZER;CN=Lou:MAILTO:collector_of_music@yahoo.com
DTSTART;TZID=Etc/GMT+0;VALUE=DATE:20250626
DTEND;TZID=Etc/GMT+0;VALUE=DATE:20250627
X-ALT-DESC;FMTTYPE=TEXT/HTML:There will be no meeting in June.
CATEGORIES:DanversDems
URL;VALUE=URI:https://danversdemocrats.org/mc-events/no-danversdems-june-me
 eting/
METHOD:PUBLISH
END:VEVENT
END:VCALENDAR