BEGIN:VCALENDAR
VERSION:2.0
PRODID:spatie/icalendar-generator
DESCRIPTION:Events from DanversDems
X-WR-CALDESC:Events from DanversDems
REFRESH-INTERVAL;VALUE=DURATION:PT1440M
X-PUBLISHED-TTL:PT1440M
BEGIN:VTIMEZONE
TZID:Etc/GMT+0
BEGIN:STANDARD
DTSTART:20250701T120000Z
TZOFFSETFROM:+0000
TZOFFSETTO:+0000
END:STANDARD
END:VTIMEZONE
BEGIN:VTIMEZONE
TZID:UTC
BEGIN:STANDARD
DTSTART:20250727T184418Z
TZOFFSETFROM:+0000
TZOFFSETTO:+0000
END:STANDARD
END:VTIMEZONE
BEGIN:VEVENT
UID:195-113
DTSTAMP:20260423T184418Z
SUMMARY:No Kings Day III
LOCATION:
ORGANIZER;CN=Lou:MAILTO:collector_of_music@yahoo.com
DTSTART;TZID=Etc/GMT+0:20260328T120000
DTEND;TZID=Etc/GMT+0:20260328T130000
X-ALT-DESC;FMTTYPE=TEXT/HTML:Rallies all over the country.  Danvers is on 
 route 114 bridge.
CATEGORIES:other
URL;VALUE=URI:https://danversdemocrats.org/mc-events/no-kings-day-iii/
METHOD:PUBLISH
END:VEVENT
END:VCALENDAR