BEGIN:VCALENDAR
VERSION:2.0
PRODID:spatie/icalendar-generator
DESCRIPTION:Events from DanversDems
X-WR-CALDESC:Events from DanversDems
REFRESH-INTERVAL;VALUE=DURATION:PT1440M
X-PUBLISHED-TTL:PT1440M
BEGIN:VTIMEZONE
TZID:Etc/GMT+0
BEGIN:STANDARD
DTSTART:20240917T120000Z
TZOFFSETFROM:+0000
TZOFFSETTO:+0000
END:STANDARD
END:VTIMEZONE
BEGIN:VTIMEZONE
TZID:UTC
BEGIN:STANDARD
DTSTART:20250727T231956Z
TZOFFSETFROM:+0000
TZOFFSETTO:+0000
END:STANDARD
END:VTIMEZONE
BEGIN:VEVENT
UID:96-83
DTSTAMP:20260423T231956Z
SUMMARY:No Kings Protest - Danvers
LOCATION:
ORGANIZER;CN=Lou:MAILTO:collector_of_music@yahoo.com
DTSTART;TZID=Etc/GMT+0:20250614T120000
DTEND;TZID=Etc/GMT+0:20250614T140000
X-ALT-DESC;FMTTYPE=TEXT/HTML:National Day of Action at the overpass bridge 
 over route 144 in danvers near Walmart for information
CATEGORIES:other
URL;VALUE=URI:https://danversdemocrats.org/mc-events/no-kings-protest-danve
 rs/
METHOD:PUBLISH
END:VEVENT
END:VCALENDAR