BEGIN:VCALENDAR
VERSION:2.0
PRODID:spatie/icalendar-generator
DESCRIPTION:Events from DanversDems
X-WR-CALDESC:Events from DanversDems
REFRESH-INTERVAL;VALUE=DURATION:PT1440M
X-PUBLISHED-TTL:PT1440M
BEGIN:VTIMEZONE
TZID:Etc/GMT+0
BEGIN:STANDARD
DTSTART:20240723T090000Z
TZOFFSETFROM:+0000
TZOFFSETTO:+0000
END:STANDARD
END:VTIMEZONE
BEGIN:VTIMEZONE
TZID:UTC
BEGIN:STANDARD
DTSTART:20250727T233939Z
TZOFFSETFROM:+0000
TZOFFSETTO:+0000
END:STANDARD
END:VTIMEZONE
BEGIN:VEVENT
UID:42-37
DTSTAMP:20260423T233939Z
SUMMARY:No Kings / Rehire National Park Rangers @ Minute Man Nat'l Historic
 al Park
LOCATION:Minute Man National Park   Concord MA
ORGANIZER;CN=Lou:MAILTO:collector_of_music@yahoo.com
DTSTART;TZID=Etc/GMT+0:20250419T090000
DTEND;TZID=Etc/GMT+0:20250419T160000
X-ALT-DESC;FMTTYPE=TEXT/HTML:Save the date April 19\, Minute Man National P
 ark in Concord\, Mass.: For the 250th anniversary of the battles of Lexing
 ton and Concord\, we have the perfect time and place to show our support f
 or fired federal workers and to rehire park rangers as well as to protect 
 national parks and public lands. 100\,000 visitors&amp;hellip\;
CATEGORIES:other
URL;VALUE=URI:https://danversdemocrats.org/mc-events/no-kings-rehire-nation
 al-park-rangers-minute-man-natl-historical-park/
METHOD:PUBLISH
END:VEVENT
END:VCALENDAR