BEGIN:VCALENDAR
VERSION:2.0
PRODID:spatie/icalendar-generator
DESCRIPTION:Events from DanversDems
X-WR-CALDESC:Events from DanversDems
REFRESH-INTERVAL;VALUE=DURATION:PT1440M
X-PUBLISHED-TTL:PT1440M
BEGIN:VTIMEZONE
TZID:Etc/GMT+0
BEGIN:STANDARD
DTSTART:20240626T090000Z
TZOFFSETFROM:+0000
TZOFFSETTO:+0000
END:STANDARD
END:VTIMEZONE
BEGIN:VTIMEZONE
TZID:UTC
BEGIN:STANDARD
DTSTART:20250728T062536Z
TZOFFSETFROM:+0000
TZOFFSETTO:+0000
END:STANDARD
END:VTIMEZONE
BEGIN:VEVENT
UID:27-22
DTSTAMP:20260424T062536Z
SUMMARY:North Andover Town Committee Scholarship Breakfast
LOCATION:
ORGANIZER;CN=Lou:MAILTO:collector_of_music@yahoo.com
DTSTART;TZID=Etc/GMT+0:20250323T090000
DTEND;TZID=Etc/GMT+0:20250323T110000
X-ALT-DESC;FMTTYPE=TEXT/HTML:Hello\, I'm the new Chair of the North Andover
  DTC and I'd like to invite you\, and your members\, to our annual scholar
 ship breakfast next month. We are lining up several statewide and local el
 ected representatives to speak and I thought it might be a great opportuni
 ty for us to meet\, as well! In addition&amp;hellip\;
CATEGORIES:other
URL;VALUE=URI:https://danversdemocrats.org/mc-events/north-andover-town-com
 mittee-scholarship-breakfast/
METHOD:PUBLISH
END:VEVENT
END:VCALENDAR