BEGIN:VCALENDAR
VERSION:2.0
PRODID:spatie/icalendar-generator
DESCRIPTION:Events from DanversDems
X-WR-CALDESC:Events from DanversDems
REFRESH-INTERVAL;VALUE=DURATION:PT1440M
X-PUBLISHED-TTL:PT1440M
BEGIN:VTIMEZONE
TZID:Etc/GMT+0
BEGIN:STANDARD
DTSTART:20241002T110000Z
TZOFFSETFROM:+0000
TZOFFSETTO:+0000
END:STANDARD
END:VTIMEZONE
BEGIN:VTIMEZONE
TZID:UTC
BEGIN:STANDARD
DTSTART:20250727T233914Z
TZOFFSETFROM:+0000
TZOFFSETTO:+0000
END:STANDARD
END:VTIMEZONE
BEGIN:VEVENT
UID:53-48
DTSTAMP:20260423T233914Z
SUMMARY:NORTH SHORE PRIDE PARADE AND FESTIVAL
LOCATION:
ORGANIZER;CN=Lou:MAILTO:collector_of_music@yahoo.com
DTSTART;TZID=Etc/GMT+0:20250629T110000
DTEND;TZID=Etc/GMT+0:20250629T160000
X-ALT-DESC;FMTTYPE=TEXT/HTML:JUNE 28\, 2025 RAIN OR SHINE! PARADE Starts at
  NOON at Shetland Park\, 27 Congress Street\, Salem\, MA 01970 Ends at Sal
 em Common\, N. Washington Square\, Salem\, MA 01970 FESTIVAL 11:00 AM – 
 4:00 PM at Salem Common\, N. Washington Square\, Salem\, MA 01970 AFTER PA
 RTY Following the Festival to continue the fun! DRAG BRUNCH&amp;hellip\;
CATEGORIES:other
URL;VALUE=URI:https://danversdemocrats.org/mc-events/north-shore-pride-para
 de-and-festival/
METHOD:PUBLISH
END:VEVENT
END:VCALENDAR