BEGIN:VCALENDAR
VERSION:2.0
PRODID:spatie/icalendar-generator
DESCRIPTION:Events from DanversDems
X-WR-CALDESC:Events from DanversDems
REFRESH-INTERVAL;VALUE=DURATION:PT1440M
X-PUBLISHED-TTL:PT1440M
BEGIN:VTIMEZONE
TZID:Etc/GMT+0
BEGIN:STANDARD
DTSTART:20250121T190000Z
TZOFFSETFROM:+0000
TZOFFSETTO:+0000
END:STANDARD
END:VTIMEZONE
BEGIN:VTIMEZONE
TZID:UTC
BEGIN:STANDARD
DTSTART:20250728T024314Z
TZOFFSETFROM:+0000
TZOFFSETTO:+0000
END:STANDARD
END:VTIMEZONE
BEGIN:VEVENT
UID:8-7
DTSTAMP:20260424T024314Z
SUMMARY:OctoberFest
LOCATION:Polish Club 12 Cheever St  Danvers MA 01923
ORGANIZER;CN=Lou:MAILTO:collector_of_music@yahoo.com
DTSTART;TZID=Etc/GMT+0:20251018T190000
DTEND;TZID=Etc/GMT+0:20251018T223000
X-ALT-DESC;FMTTYPE=TEXT/HTML:Dinner fundraiser with fellow Democrats with D
 emocrat Leader speakers
CATEGORIES:DanversDems
URL;VALUE=URI:https://danversdemocrats.org/mc-events/octoberfest/
METHOD:PUBLISH
END:VEVENT
END:VCALENDAR