BEGIN:VCALENDAR
VERSION:2.0
PRODID:spatie/icalendar-generator
DESCRIPTION:Events from DanversDems
X-WR-CALDESC:Events from DanversDems
REFRESH-INTERVAL;VALUE=DURATION:PT1440M
X-PUBLISHED-TTL:PT1440M
BEGIN:VTIMEZONE
TZID:Etc/GMT+0
BEGIN:STANDARD
DTSTART:20240622T180000Z
TZOFFSETFROM:+0000
TZOFFSETTO:+0000
END:STANDARD
END:VTIMEZONE
BEGIN:VTIMEZONE
TZID:UTC
BEGIN:STANDARD
DTSTART:20250728T093812Z
TZOFFSETFROM:+0000
TZOFFSETTO:+0000
END:STANDARD
END:VTIMEZONE
BEGIN:VEVENT
UID:46-41
DTSTAMP:20260424T093812Z
SUMMARY:One Commonwealth Organizing Meeting - In Ipswich
LOCATION:
ORGANIZER;CN=Lou:MAILTO:collector_of_music@yahoo.com
DTSTART;TZID=Etc/GMT+0:20250319T180000
DTEND;TZID=Etc/GMT+0:20250319T200000
X-ALT-DESC;FMTTYPE=TEXT/HTML:Wednesday March 19th 6-8 PM True North Ale Com
 pany 116 County Rd\, Ipswich\, MA 01938   One Commonwealth is kicking off
  a series of regional organizing meetings with their partners at Abundant 
 Housing Massachusetts and Citizens' Housing &amp;amp\; Planning Association (C
 HAPA) and they have one meeting coming up soon in your neck of the woods.&amp;
 hellip\;
CATEGORIES:MassDems
URL;VALUE=URI:https://danversdemocrats.org/mc-events/one-commonwealth-organ
 izing-meeting-in-ipswich/
METHOD:PUBLISH
END:VEVENT
END:VCALENDAR