BEGIN:VCALENDAR
VERSION:2.0
PRODID:spatie/icalendar-generator
DESCRIPTION:Events from DanversDems
X-WR-CALDESC:Events from DanversDems
REFRESH-INTERVAL;VALUE=DURATION:PT1440M
X-PUBLISHED-TTL:PT1440M
BEGIN:VTIMEZONE
TZID:Etc/GMT+0
BEGIN:STANDARD
DTSTART:20240618T000000Z
TZOFFSETFROM:+0000
TZOFFSETTO:+0000
END:STANDARD
END:VTIMEZONE
BEGIN:VTIMEZONE
TZID:UTC
BEGIN:STANDARD
DTSTART:20250728T070626Z
TZOFFSETFROM:+0000
TZOFFSETTO:+0000
END:STANDARD
END:VTIMEZONE
BEGIN:VEVENT
UID:38-33
DTSTAMP:20260424T070626Z
SUMMARY:Postcards to the White House - March 15 (Ides of March(
LOCATION:
ORGANIZER;CN=Lou:MAILTO:collector_of_music@yahoo.com
DTSTART;TZID=Etc/GMT+0;VALUE=DATE:20250315
DTEND;TZID=Etc/GMT+0;VALUE=DATE:20250316
X-ALT-DESC;FMTTYPE=TEXT/HTML:POSTCARDS TO WHITE HOUSE MAIL ON MARCH 15TH. Y
 ou can cut up any card to use up to 4\"x 6\" but no bigger. On March 15th\
 , many people will mail Donald Trump a postcard that publicly expresses ou
 r opposition to him. And we\, in vast numbers\, from all corners of the wo
 rld\, will overwhelm the&amp;hellip\;
CATEGORIES:other
URL;VALUE=URI:https://danversdemocrats.org/mc-events/postcards-to-the-white
 -house-march-15-ides-of-march/
METHOD:PUBLISH
END:VEVENT
END:VCALENDAR